BEGIN:VCALENDAR
VERSION:2.0
PRODID:-//Tukios.com/
BEGIN:VEVENT
UID:e88b8133-8f62-4d8e-9faf-bfe3ee5fdc50@www.billymkingcolonialchapel.com
DTSTAMP:20260425T231740Z
DTSTART:20260426T180000Z
DTEND:20260426T190000Z
SUMMARY:Graveside Service
DESCRIPTION:
URL:https://www.billymkingcolonialchapel.com/obituaries/barbara-minter
LOCATION:Moore Family Cemetery Minter Road  Seminary MS 39479
GEO:31.5750134;-89.4769621
END:VEVENT
END:VCALENDAR