BEGIN:VCALENDAR
VERSION:2.0
PRODID:-//Tukios.com/
BEGIN:VEVENT
UID:9f41ef2a-488e-40b9-8afc-0c546698dd11@www.billymkingcolonialchapel.com
DTSTAMP:20260424T232526Z
DTSTART:20260427T200000Z
DTEND:20260427T201500Z
SUMMARY:Graveside Service
DESCRIPTION:
URL:https://www.billymkingcolonialchapel.com/obituaries/corey-ainsworth
LOCATION:Cooley Springs Baptist Church Cemetery Cooley Springs-Coulter 
	Road  Mount Olive MS 39119
GEO:31.7314468;-89.6682978
END:VEVENT
END:VCALENDAR