BEGIN:VCALENDAR
VERSION:2.0
PRODID:-//Tukios.com/
BEGIN:VEVENT
UID:e1f7497d-d8d7-4736-8925-0373bcb9dee0@www.billymkingcolonialchapel.com
DTSTAMP:20260424T000359Z
DTSTART:20261029T191500Z
DTEND:20261029T193000Z
SUMMARY:Graveside Service
DESCRIPTION:
URL:https://www.billymkingcolonialchapel.com/obituaries/henry-leonard
LOCATION:Salem Baptist Church Cemetery 338 Salem Church Rd  Collins MS 
	39428
GEO:31.6736527;-89.5560933
END:VEVENT
END:VCALENDAR